BEGIN:VCALENDAR
VERSION:2.0
PRODID:-//Fundibio - ECPv6.15.13.1//NONSGML v1.0//EN
CALSCALE:GREGORIAN
METHOD:PUBLISH
X-WR-CALNAME:Fundibio
X-ORIGINAL-URL:https://fundibio.com.br
X-WR-CALDESC:Eventos para Fundibio
REFRESH-INTERVAL;VALUE=DURATION:PT1H
X-Robots-Tag:noindex
X-PUBLISHED-TTL:PT1H
BEGIN:VTIMEZONE
TZID:UTC
BEGIN:STANDARD
TZOFFSETFROM:+0000
TZOFFSETTO:+0000
TZNAME:UTC
DTSTART:20210101T000000
END:STANDARD
END:VTIMEZONE
BEGIN:VEVENT
DTSTART;TZID=UTC:20220608T090000
DTEND;TZID=UTC:20220608T173000
DTSTAMP:20260423T180530
CREATED:20220606T174417Z
LAST-MODIFIED:20220606T192943Z
UID:4935-1654678800-1654709400@fundibio.com.br
SUMMARY:Darwin Day
DESCRIPTION:Data: 08/06/2022 – 09:00 – 17:30\nLink: https://www.even3.com.br/darwindayunesp/ \n\nSobre o Evento\n\n\nO Darwin Day é um evento comemorado mundialmente em alusão ao nascimento de Charles Robert Darwin\, o “pai” da teoria da Evolução e considerado um dos maiores cientistas  da história da humanidade. Trata-se de um evento acadêmico de grande importância para as  Ciências Biológicas e áreas correlatas ao tratar de um assunto central às premissas de Darwin e que hoje é ainda alvo de questionamentos por falta de embasamento científico correto. \n  \nNesse contexto\, as edições Unespianas realizadas nos últimos cinco anos têm atendido ao anseio da  comunidade interessada em discutir e melhor compreender as bases do fato que denominamos  Evolução\, à luz das ideias de Darwin. A realização das diferentes edições conta com a colaboração de docentes e  discentes vinculados ao Programa de Pós-Graduação em Genética e Biologia Geral e Aplicada do  Instituto de Biociências de Botucatu (IBB)/UNESP\, assim como de alunos de graduação dos cursos do IBB\, em que todos defendem a ciência como sendo uma ferramenta geradora de conhecimento.
URL:https://fundibio.com.br/evento/darwin-day/
LOCATION:Espaço IB Eventos\, Jardim Sao Jose\, Botucatu - SP\, Botucatu\, São Paulo\, Brasil
ATTACH;FMTTYPE=image/webp:https://fundibio.com.br/wp-content/uploads/2022/06/darwinday.webp
END:VEVENT
END:VCALENDAR